Workbook

Sheet 第3号様式
B1: 別記第３号様式（第９条関係）
L3: 令和 | N3: 年 | P3: 月 | R3: 日
B5: 山口県知事 様
I7: 法人住所
I8: 法人名
I9: 代表者職氏名
B11: 山口県地域のケアマネジメント提供体制確保支援事業補助金実績報告書
B12: このことについて、山口県地域のケアマネジメント提供体制確保支援事業補助金交付要綱第９条の規定に基づき、下記のとおり関係書類を添えて報告します。
B14: 記
B16: １ 補助金の交付決定年月日及び番号
C17: 令和 | E17: 年 | G17: 月 | I17: 日 | J17: 令８長寿社会第 | R17: 号
B19: ２ 補助金交付決定額
G20: 円
B22: ３ 実績報告額
C23: =SUM(開始:終了!E53) -> 0 | G23: 円
B25: ４ 添付書類
C26: （1）所要額精算書（別紙１）
C27: （2）事業実績書（別紙２）
C28: （3）その他知事が必要と認める書類
C29: ※事業実績を証する書類の写し等を提出のこと
B31: ５ 事業完了年月日
C32: 令和 | E32: 年 | G32: 月 | I32: 日
B35: ＜本件責任者及び担当者＞
B36: 責任者職・氏名
B37: 担当者職・氏名
B38: 連絡先

Sheet 開始

Sheet ２所要額調書（別紙１）
B2: （別紙１）
B3: 山口県地域のケアマネジメント提供体制確保支援事業補助金 所要額調書 | S3: 居宅介護支援事業所
S4: 介護予防支援事業所
D5: サービス種別： | E5: 居宅介護支援事業所 | S5: 特定施設入居者生活介護事業所
D6: 事業所名： | S6: 介護予防特定施設入居者生活介護事業所
D7: 事業所番号： | S7: 小規模多機能型居宅介護事業所
S8: 介護予防小規模多機能型居宅介護事業所
C9: ※青色付きのセルに数字のみ入力すること（千円未満は切捨て） | S9: 看護小規模多機能型居宅介護事業所
S10: 地域密着型特定施設入居者生活介護事業所
S11: 認知症対応型共同生活介護事業所
B12: このことについて、山口県地域のケアマネジメント提供体制確保支援事業補助金交付要綱第９条の規定に基づき、下記のとおり関係書類を添えて報告します。 | S12: 介護予防認知症対応型
S13: 共同生活介護事業所
B14: =IF(I16>0,"☑","") | C14: （ア）中山間地域等・離島等地域における採用活動 | S14: 地域密着型介護老人福祉施設
C15: 総事業費 | D15: 寄付金 その他の収入額 | E15: 差引額 | F15: 対象経費 支出額（Ａ） | G15: 基準額 （Ｂ） | H15: 選定額 （Ａ）と（Ｂ）のうち少ない金額） | I15: 補助額 （千円未満 切り捨て） | S15: 介護老人福祉施設
C16: ='３所要額調書（別紙２）'!D75 -> 0 | E16: =C16-D16 -> 0 | F16: =E16 -> 0 | G16: 300000 | H16: =MIN(F16,G16) -> 0 | I16: =ROUNDDOWN(H16,-3) -> 0 | S16: 介護老人保健施設
S17: 介護医療院
B18: =IF(I20>0,"☑","") | C18: （イ）「潜在ケアマネジャー」の復職 | S18: 介護予防ケアマネジメント事業所
C19: 総事業費 | D19: 寄付金 その他の収入額 | E19: 差引額 | F19: 対象経費 支出額（Ａ） | G19: 基準額 （Ｂ） | H19: 選定額 （Ａ）と（Ｂ）のうち少ない金額） | I19: 補助額 （千円未満 切り捨て）
C20: ='３所要額調書（別紙２）'!D87 -> 0 | E20: =C20-D20 -> 0 | F20: =E20 -> 0 | G20: =90000*'３所要額調書（別紙２）'!F79 -> 90000 | H20: =MIN(F20,G20) -> 0 | I20: =ROUNDDOWN(H20,-3) -> 0
C23: （１）合計 | D23: =I16+I20 -> 0 | E23: 円
B26: （２）介護支援専門員業務負担軽減支援事業
B27: =IF(I29>0,"☑","") | C27: （ア）事業所内のタスクシフト
C28: 総事業費 | D28: 寄付金 その他の収入額 | E28: 差引額 | F28: 対象経費 支出額（Ａ） | G28: 基準額 （Ｂ） | H28: 選定額 （Ａ）と（Ｂ）のうち少ない金額） | I28: 補助額 （千円未満 切り捨て）
C29: ='３所要額調書（別紙２）'!D101 -> 0 | E29: =C29-D29 -> 0 | F29: =E29 -> 0 | G29: 300000 | H29: =MIN(F29,G29) -> 0 | I29: =ROUNDDOWN(H29,-3) -> 0
B31: =IF(I33>0,"☑","") | C31: （イ）安全確保のための複数名訪問
C32: 総事業費 | D32: 寄付金 その他の収入額 | E32: 差引額 | F32: 対象経費 支出額（Ａ） | G32: 基準額 （Ｂ） | H32: 選定額 （Ａ）と（Ｂ）のうち少ない金額） | I32: 補助額 （千円未満 切り捨て）
E33: =C33-D33 -> 0 | F33: =E33 -> 0 | G33: 300000 | H33: =MIN(F33,G33) -> 0 | I33: =ROUNDDOWN(H33,-3) -> 0
C35: （２）合計 | D35: =I29+I33 -> 0 | E35: 円
B38: （３）居宅介護支援事業所等経営改善支援事業
B40: =IF(I42>0,"☑","") | C40: （ア）経営改善
C41: 総事業費 | D41: 寄付金 その他の収入額 | E41: 差引額 | F41: 対象経費 支出額（Ａ） | G41: 基準額 （Ｂ） | H41: 選定額 （Ａ）と（Ｂ）のうち少ない金額） | I41: 補助額 （千円未満 切り捨て）
E42: =C42-D42 -> 0 | F42: =E42 -> 0 | G42: 400000 | H42: =MIN(F42,G42) -> 0 | I42: =ROUNDDOWN(H42,-3) -> 0
B44: =IF(I46>0,"☑","") | C44: （イ）利用者確保等のための広報活動
C45: 総事業費 | D45: 寄付金 その他の収入額 | E45: 差引額 | F45: 対象経費 支出額（Ａ） | G45: 基準額 （Ｂ） | H45: 選定額 （Ａ）と（Ｂ）のうち少ない金額） | I45: 補助額 （千円未満 切り捨て）
E46: =C46-D46 -> 0 | F46: =E46 -> 0 | G46: 300000 | H46: =MIN(F46,G46) -> 0 | I46: =ROUNDDOWN(H46,-3) -> 0
C49: （３）合計 | D49: =I42+I46 -> 0 | E49: 円
B53: 補助計画額の合計（１）+（２）+（３） | E53: =D23+D35+D49 -> 0 | F53: 円

Sheet ３所要額調書（別紙２）
A55: （別紙２）
AH56: 〇
A57: 山口県地域のケアマネジメント提供体制確保支援事業実績書
F59: サービス種別 | K59: ='２所要額調書（別紙１）'!E5 -> 居宅介護支援事業所
F60: 事業所名(別紙１より転記) | K60: ='２所要額調書（別紙１）'!E6 -> 0
F61: 事業所番号(別紙１より転記) | K61: ='２所要額調書（別紙１）'!E7 -> 0
B64: （１）介護支援専門員人材確保支援事業
B65: このことについて、山口県地域のケアマネジメント提供体制確保支援事業補助金交付要綱第９条の規定に基づき、下記のとおり関係書類を添えて報告します。
B66: ='２所要額調書（別紙１）'!B14 | C66: （ア）中山間地域等・離島等地域における採用活動
B67: ① 事業実施期間 | F67: 令和 | H67: 年 | J67: 月 | L67: 日 | M67: ～ | N67: 令和 | P67: 年 | R67: 月 | T67: 日
B68: ② 実施した採用活動（枠内に記入）
C69: No | D69: 支出額 | F69: 実施事業
C70: =COUNTA(D70) -> 0
C71: =IF(D71="","",COUNTA(D$70:E71))
C72: =IF(D72="","",COUNTA(D$70:E72))
C73: =IF(D73="","",COUNTA(D$70:E73))
C74: =IF(D74="","",COUNTA(D$70:E74))
C75: 合計 | D75: =ROUNDDOWN(SUM(D70:E74),-3) -> 0 | F75: （\1,000未満切り捨て）
B77: ='２所要額調書（別紙１）'!B18 | C77: （イ）「潜在ケアマネジャー」の復職
B78: ① 事業実施期間 | F78: 令和 | H78: 年 | J78: 月 | L78: 日 | M78: ～ | N78: 令和 | P78: 年 | R78: 月 | T78: 日
B79: ② 復職者の数 | F79: 1 | G79: 人
B80: ③ 実施した事業（枠内に記入）
C81: No | D81: 支出額 | F81: 実施事業
C82: =COUNTA(D82) -> 0
C83: =IF(D83="","",COUNTA(D$82:E83))
C84: =IF(D84="","",COUNTA(D$82:E84))
C85: =IF(D85="","",COUNTA(D$82:E85))
C86: =IF(D86="","",COUNTA(D$82:E86))
C87: 合計 | D87: =ROUNDDOWN(SUM(D82:E86),-3) -> 0 | F87: （\1,000未満切り捨て）
B89: （２）介護支援専門員業務負担軽減支援事業
B91: ='２所要額調書（別紙１）'!B27 | C91: （ア）事業所内のタスクシフト
B93: ① 事業実施期間 | F93: 令和 | H93: 年 | J93: 月 | L93: 日 | M93: ～ | N93: 令和 | P93: 年 | R93: 月 | T93: 日
B94: ② 実施した事業（枠内に記入）
C95: No | D95: 支出額 | F95: 実施事業
C96: =COUNTA(D96) -> 0
C97: =IF(D97="","",COUNTA(D$96:D97))
C98: =IF(D98="","",COUNTA(D$96:D98))
C99: =IF(D99="","",COUNTA(D$96:D99))
C100: =IF(D100="","",COUNTA(D$96:D100))
C101: 合計 | D101: =ROUNDDOWN(SUM(D96:E100),-3) -> 0 | F101: （\1,000未満切り捨て）
...

Sheet 終了

Sheet リスト
A2: サービス種別
A3: 訪問介護
A4: 定期巡回・随時対応型訪問介護看護
A5: 夜間対応型訪問介護
A7: ○

Sheet リスト２
A2: （ア）研修体制の構築
A3: （イ）中山間地域等における採用活動
A4: （ウ）経験年数が短いホームヘルパー等への同行
A6: （ア）登録ヘルパー等の常勤化の促進
A7: （イ）小規模法人等の協働化・大規模化の取組
A8: （ウ）介護人材・利用者確保のための広報活動
